BEGIN:VCALENDAR
VERSION:2.0
PRODID:-//Tukios.com/
BEGIN:VEVENT
UID:7e813909-d956-442a-8156-5e856456bec9@www.mcnabbfh.com
DTSTAMP:20260425T231147Z
DTSTART:20260429T190000Z
DTEND:20260429T200000Z
SUMMARY:Graveside Service
DESCRIPTION:
URL:https://www.mcnabbfh.com/obituaries/larry-graham
LOCATION:Masonic Cemetery  South Park Street  Pocahontas AR 72455
GEO:36.2583712;-90.984052
END:VEVENT
END:VCALENDAR