BEGIN:VCALENDAR
VERSION:2.0
PRODID:-//Tukios.com/
BEGIN:VEVENT
UID:138a431a-6855-4846-96a7-bda350bfb4d8@www.mcnabbfh.com
DTSTAMP:20260422T191911Z
DTSTART:20260425T204500Z
DTEND:20260425T214500Z
SUMMARY:Burial
DESCRIPTION:Following Services
URL:https://www.mcnabbfh.com/obituaries/jimmy-bibb-jr
LOCATION:Sharum Cemetery Sharum Drive  Pocahontas AR 72455
GEO:36.2138621;-90.8541406
END:VEVENT
END:VCALENDAR