BEGIN:VCALENDAR
VERSION:2.0
PRODID:-//Tukios.com/
BEGIN:VEVENT
UID:0e249b93-2513-424e-9bab-1cba972e471b@www.mcnabbfh.com
DTSTAMP:20260422T192625Z
DTSTART:20260425T200000Z
DTEND:20260425T210000Z
SUMMARY:Funeral Service
DESCRIPTION:
URL:https://www.mcnabbfh.com/obituaries/jimmy-bibb-jr
LOCATION:McNabb Funeral Home 2129 N Park St  Pocahontas AR 72455
GEO:36.278376;-90.9842118
END:VEVENT
END:VCALENDAR