BEGIN:VCALENDAR
VERSION:2.0
PRODID:-//Tukios.com/
BEGIN:VEVENT
UID:b330b8bf-9743-4d48-9216-ab1d36015032@www.mcnabbfh.com
DTSTAMP:20260422T191953Z
DTSTART:20260425T190000Z
DTEND:20260425T200000Z
SUMMARY:Visitation
DESCRIPTION:
URL:https://www.mcnabbfh.com/obituaries/jimmy-bibb-jr
LOCATION:McNabb Funeral Home 2129 N Park St  Pocahontas AR 72455
GEO:36.278376;-90.9842118
END:VEVENT
END:VCALENDAR