BEGIN:VCALENDAR
VERSION:2.0
PRODID:-//Tukios.com/
BEGIN:VEVENT
UID:eb7a58db-4f6b-49c2-85f4-4da9d7f0cc6e@www.mcnabbfh.com
DTSTAMP:20260422T214525Z
DTSTART:20260425T160000Z
DTEND:20260425T170000Z
SUMMARY:Visitation
DESCRIPTION:
URL:https://www.mcnabbfh.com/obituaries/ison-randolph
LOCATION:McNabb Funeral Home 2129 N Park St  Pocahontas AR 72455
GEO:36.278376;-90.9842118
END:VEVENT
END:VCALENDAR