BEGIN:VCALENDAR
VERSION:2.0
PRODID:-//Tukios.com/
BEGIN:VEVENT
UID:447525ef-cec8-47e3-91d8-26d0b12e35d5@www.mcnabbfh.com
DTSTAMP:20260422T234122Z
DTSTART:20260424T170000Z
DTEND:20260424T180000Z
SUMMARY:Funeral Service
DESCRIPTION:
URL:https://www.mcnabbfh.com/obituaries/allen-bennett
LOCATION: 2129 North Park Street  Pocahontas AR 72455
GEO:36.278376;-90.9842118
END:VEVENT
END:VCALENDAR