BEGIN:VCALENDAR
VERSION:2.0
PRODID:-//Tukios.com/
BEGIN:VEVENT
UID:7881f516-297a-408e-9d98-51bd183441f2@www.mcnabbfh.com
DTSTAMP:20260422T234610Z
DTSTART:20260424T150000Z
DTEND:20260424T170000Z
SUMMARY:Visitation
DESCRIPTION:
URL:https://www.mcnabbfh.com/obituaries/allen-bennett
LOCATION: 2129 North Park Street  Pocahontas AR 72455
GEO:36.278376;-90.9842118
END:VEVENT
END:VCALENDAR